BEGIN:VCALENDAR
VERSION:2.0
PRODID:-//Tukios.com/
BEGIN:VEVENT
UID:5375b0ab-a764-4bf5-99a3-4ef6b0a20676@www.kirbyandfamily.com
DTSTAMP:20260424T050757Z
DTSTART:20260606T190000Z
DTEND:20260606T210000Z
SUMMARY:Gathering of Family & Friends
DESCRIPTION:
URL:https://www.kirbyandfamily.com/obituaries/thomas-gutierrez
LOCATION: 600 Hospital Drive  Mountain Home AR 72653
GEO:36.3426301;-92.392933
END:VEVENT
END:VCALENDAR